BEGIN:VCALENDAR
VERSION:2.0
PRODID:-//Naturerlebnisbad Deuz - ECPv6.15.20//NONSGML v1.0//EN
CALSCALE:GREGORIAN
METHOD:PUBLISH
X-ORIGINAL-URL:https://naturerlebnisbad-deuz.de
X-WR-CALDESC:Veranstaltungen für Naturerlebnisbad Deuz
REFRESH-INTERVAL;VALUE=DURATION:PT1H
X-Robots-Tag:noindex
X-PUBLISHED-TTL:PT1H
BEGIN:VTIMEZONE
TZID:Europe/Berlin
BEGIN:DAYLIGHT
TZOFFSETFROM:+0100
TZOFFSETTO:+0200
TZNAME:CEST
DTSTART:20240331T010000
END:DAYLIGHT
BEGIN:STANDARD
TZOFFSETFROM:+0200
TZOFFSETTO:+0100
TZNAME:CET
DTSTART:20241027T010000
END:STANDARD
BEGIN:DAYLIGHT
TZOFFSETFROM:+0100
TZOFFSETTO:+0200
TZNAME:CEST
DTSTART:20250330T010000
END:DAYLIGHT
BEGIN:STANDARD
TZOFFSETFROM:+0200
TZOFFSETTO:+0100
TZNAME:CET
DTSTART:20251026T010000
END:STANDARD
BEGIN:DAYLIGHT
TZOFFSETFROM:+0100
TZOFFSETTO:+0200
TZNAME:CEST
DTSTART:20260329T010000
END:DAYLIGHT
BEGIN:STANDARD
TZOFFSETFROM:+0200
TZOFFSETTO:+0100
TZNAME:CET
DTSTART:20261025T010000
END:STANDARD
END:VTIMEZONE
BEGIN:VEVENT
DTSTART;TZID=Europe/Berlin:20250623T183000
DTEND;TZID=Europe/Berlin:20250623T200000
DTSTAMP:20260421T150842
CREATED:20250618T190232Z
LAST-MODIFIED:20250622T092807Z
UID:4370-1750703400-1750708800@naturerlebnisbad-deuz.de
SUMMARY:Infoabend im Naturerlebnisbad Deuz
DESCRIPTION:Liebe Vereinsmitglieder\, Gäste und Unterstützer\,\n\n\n\n\n\n\nwir laden Sie recht herzlich zu einer Infoveranstaltung ein\, um Sie über die aktuelle Situation zu unterrichten.\n\n\n\n\n\n\n \n\n\n\n\n\n\nWann: Montag\, 23. Juni um 18.30 Uhr\n\n\n\n\n\n\nWo: Naturerlebnisbad Deuz (Am Freibad 18\, 57250 Netphen)
URL:https://naturerlebnisbad-deuz.de/event/infoabend-im-naturerlebnisbad-deuz/
LOCATION:Naturerlebnisbad Deuz\, Am Freibad 18\, Netphen\, 57250
ORGANIZER;CN="Tr%C3%A4gerverein Freibad Deuz e.V.":MAILTO:mail@naturerlebnisbad-deuz.de
END:VEVENT
END:VCALENDAR