BEGIN:VCALENDAR
VERSION:2.0
PRODID:-//Naturerlebnisbad Deuz - ECPv6.15.20//NONSGML v1.0//EN
CALSCALE:GREGORIAN
METHOD:PUBLISH
X-ORIGINAL-URL:https://naturerlebnisbad-deuz.de
X-WR-CALDESC:Veranstaltungen für Naturerlebnisbad Deuz
REFRESH-INTERVAL;VALUE=DURATION:PT1H
X-Robots-Tag:noindex
X-PUBLISHED-TTL:PT1H
BEGIN:VTIMEZONE
TZID:Europe/Berlin
BEGIN:DAYLIGHT
TZOFFSETFROM:+0100
TZOFFSETTO:+0200
TZNAME:CEST
DTSTART:20240331T010000
END:DAYLIGHT
BEGIN:STANDARD
TZOFFSETFROM:+0200
TZOFFSETTO:+0100
TZNAME:CET
DTSTART:20241027T010000
END:STANDARD
BEGIN:DAYLIGHT
TZOFFSETFROM:+0100
TZOFFSETTO:+0200
TZNAME:CEST
DTSTART:20250330T010000
END:DAYLIGHT
BEGIN:STANDARD
TZOFFSETFROM:+0200
TZOFFSETTO:+0100
TZNAME:CET
DTSTART:20251026T010000
END:STANDARD
BEGIN:DAYLIGHT
TZOFFSETFROM:+0100
TZOFFSETTO:+0200
TZNAME:CEST
DTSTART:20260329T010000
END:DAYLIGHT
BEGIN:STANDARD
TZOFFSETFROM:+0200
TZOFFSETTO:+0100
TZNAME:CET
DTSTART:20261025T010000
END:STANDARD
END:VTIMEZONE
BEGIN:VEVENT
DTSTART;TZID=Europe/Berlin:20250706T100000
DTEND;TZID=Europe/Berlin:20250706T100000
DTSTAMP:20260421T134040
CREATED:20241216T193730Z
LAST-MODIFIED:20250702T184909Z
UID:4258-1751796000-1751796000@naturerlebnisbad-deuz.de
SUMMARY:Gottesdienst im Freibad
DESCRIPTION:
URL:https://naturerlebnisbad-deuz.de/event/gottesdienst-im-freibad/
LOCATION:Naturerlebnisbad Deuz\, Am Freibad 18\, Netphen\, 57250
END:VEVENT
BEGIN:VEVENT
DTSTART;TZID=Europe/Berlin:20250710T183000
DTEND;TZID=Europe/Berlin:20250710T200000
DTSTAMP:20260421T134040
CREATED:20250623T210141Z
LAST-MODIFIED:20250702T184614Z
UID:4382-1752172200-1752177600@naturerlebnisbad-deuz.de
SUMMARY:Einladung außerordentliche Mitgliederversammlung
DESCRIPTION:Liebe Vereinsmitglieder\, \nwir laden Sie herzlich zur außerortendlichen Mitgliederversammlung des Trägervereins Freibad Deuz e.V. ein. \nWann: Donnerstag\, 10. Juli 2025 um 18.30 Uhr \nWo: Naturerlebnisbad Deuz – Am Freibad 18\, Netphen-Deuz \nDas Einladungsschreiben mit der Tagesordnung erhalten Sie unter nachfolgendem Link: \nBitte hier klicken:\nEinladung außerordentliche Mitgliederversammlung.pdf
URL:https://naturerlebnisbad-deuz.de/event/einladung-ausserordentliche-mitgliederversammlung/
LOCATION:Naturerlebnisbad Deuz\, Am Freibad 18\, Netphen\, 57250
ORGANIZER;CN="Tr%C3%A4gerverein Freibad Deuz e.V.":MAILTO:mail@naturerlebnisbad-deuz.de
END:VEVENT
END:VCALENDAR